BEGIN:VCALENDAR
VERSION:2.0
PRODID:-//Kinkyland Podcast - ECPv6.15.20//NONSGML v1.0//EN
CALSCALE:GREGORIAN
METHOD:PUBLISH
X-WR-CALNAME:Kinkyland Podcast
X-ORIGINAL-URL:https://kinkylandtalk.de
X-WR-CALDESC:Veranstaltungen für Kinkyland Podcast
REFRESH-INTERVAL;VALUE=DURATION:PT1H
X-Robots-Tag:noindex
X-PUBLISHED-TTL:PT1H
BEGIN:VTIMEZONE
TZID:UTC
BEGIN:STANDARD
TZOFFSETFROM:+0000
TZOFFSETTO:+0000
TZNAME:UTC
DTSTART:20240101T000000
END:STANDARD
END:VTIMEZONE
BEGIN:VEVENT
DTSTART;TZID=UTC:20250606T080000
DTEND;TZID=UTC:20250608T170000
DTSTAMP:20260419T130309
CREATED:20250228T110917Z
LAST-MODIFIED:20250228T110917Z
UID:284-1749196800-1749402000@kinkylandtalk.de
SUMMARY:Dokomi 2025
DESCRIPTION:Die Convention findet 6.6-8.6 in Düsseldorf statt und bietet neben Anime\, Gaming und Cosplay auch viele tolle Möglichkeiten\, neue Leute kennenzulernen und Spaß zu haben.Wenn du Interesse hast oder wir uns dort vielleicht in einer kleinen Gruppe treffen wollen\, lass es mich gerne wissen! \nKleine Info: Wer mag\, kann sich auch gerne ein BDSM-inspiriertes oder alternatives Outfit überlegen – solange es zu den Cosplay-Regeln der Con passt\, versteht sich.
URL:https://kinkylandtalk.de/event/dokomi-2025/
LOCATION:Dokomi 2025\, Stockumer Kirchstrasse 61\, Düsseldorf\, Dortmund\, 94234\, Germany
END:VEVENT
END:VCALENDAR